BEGIN:VCALENDAR
VERSION:2.0
PRODID:-//Coastal Conservation Association California - ECPv6.5.1.5//NONSGML v1.0//EN
CALSCALE:GREGORIAN
METHOD:PUBLISH
X-WR-CALNAME:Coastal Conservation Association California
X-ORIGINAL-URL:https://ccacalifornia.org
X-WR-CALDESC:Events for Coastal Conservation Association California
REFRESH-INTERVAL;VALUE=DURATION:PT1H
X-Robots-Tag:noindex
X-PUBLISHED-TTL:PT1H
BEGIN:VTIMEZONE
TZID:America/Los_Angeles
BEGIN:DAYLIGHT
TZOFFSETFROM:-0800
TZOFFSETTO:-0700
TZNAME:PDT
DTSTART:20160313T100000
END:DAYLIGHT
BEGIN:STANDARD
TZOFFSETFROM:-0700
TZOFFSETTO:-0800
TZNAME:PST
DTSTART:20161106T090000
END:STANDARD
BEGIN:DAYLIGHT
TZOFFSETFROM:-0800
TZOFFSETTO:-0700
TZNAME:PDT
DTSTART:20170312T100000
END:DAYLIGHT
BEGIN:STANDARD
TZOFFSETFROM:-0700
TZOFFSETTO:-0800
TZNAME:PST
DTSTART:20171105T090000
END:STANDARD
BEGIN:DAYLIGHT
TZOFFSETFROM:-0800
TZOFFSETTO:-0700
TZNAME:PDT
DTSTART:20180311T100000
END:DAYLIGHT
BEGIN:STANDARD
TZOFFSETFROM:-0700
TZOFFSETTO:-0800
TZNAME:PST
DTSTART:20181104T090000
END:STANDARD
BEGIN:DAYLIGHT
TZOFFSETFROM:-0800
TZOFFSETTO:-0700
TZNAME:PDT
DTSTART:20190310T100000
END:DAYLIGHT
BEGIN:STANDARD
TZOFFSETFROM:-0700
TZOFFSETTO:-0800
TZNAME:PST
DTSTART:20191103T090000
END:STANDARD
BEGIN:DAYLIGHT
TZOFFSETFROM:-0800
TZOFFSETTO:-0700
TZNAME:PDT
DTSTART:20200308T100000
END:DAYLIGHT
BEGIN:STANDARD
TZOFFSETFROM:-0700
TZOFFSETTO:-0800
TZNAME:PST
DTSTART:20201101T090000
END:STANDARD
BEGIN:DAYLIGHT
TZOFFSETFROM:-0800
TZOFFSETTO:-0700
TZNAME:PDT
DTSTART:20210314T100000
END:DAYLIGHT
BEGIN:STANDARD
TZOFFSETFROM:-0700
TZOFFSETTO:-0800
TZNAME:PST
DTSTART:20211107T090000
END:STANDARD
END:VTIMEZONE
BEGIN:VEVENT
DTSTART;TZID=America/Los_Angeles:20211010T210000
DTEND;TZID=America/Los_Angeles:20211012T060000
DTSTAMP:20260421T180413
CREATED:20210915T202902Z
LAST-MODIFIED:20210915T203435Z
UID:17809-1633899600-1634018400@ccacalifornia.org
SUMMARY:SoCal Charter Challenge
DESCRIPTION:Four of our local Southern California local chapters will be competing in the 2021 SoCal Charter Challenge! Our Los Angeles\, Orange County\, Inland Empire and San Diego will be competing this year on four different boats on a 1.5 day trip on October 10th through October 12th.
URL:https://ccacalifornia.org/event/socal-charter-challenge/
CATEGORIES:Chapter Events
ATTACH;FMTTYPE=image/png:https://eadn-wc03-3080912.nxedge.io/wp-content/uploads/2021/09/Screen-Shot-2021-08-05-at-5.49.08-PM.png
END:VEVENT
BEGIN:VEVENT
DTSTART;TZID=America/Los_Angeles:20181020T090000
DTEND;TZID=America/Los_Angeles:20181020T170000
DTSTAMP:20260421T180413
CREATED:20181011T160548Z
LAST-MODIFIED:20181011T160548Z
UID:2237-1540026000-1540054800@ccacalifornia.org
SUMMARY:Fly Fishing Faire
DESCRIPTION:
URL:https://ccacalifornia.org/event/fly-fishing-faire/
END:VEVENT
BEGIN:VEVENT
DTSTART;TZID=America/Los_Angeles:20160727T180000
DTEND;TZID=America/Los_Angeles:20160727T203000
DTSTAMP:20260421T180413
CREATED:20160722T191823Z
LAST-MODIFIED:20160722T191823Z
UID:391-1469642400-1469651400@ccacalifornia.org
SUMMARY:Summer Membership Drive Tapas & Beer Tour
DESCRIPTION:
URL:https://ccacalifornia.org/event/summer-membership-drive-tapas-beer-tour/
LOCATION:Dos Desperados Brewery\, 1241 Linda Vista Drive\, San Marcos\, CA\, 92078\, United States
END:VEVENT
END:VCALENDAR